BEGIN:VCALENDAR
VERSION:2.0
PRODID:-//Plone.org//NONSGML plone.app.event//EN
X-WR-TIMEZONE:Europe/Madrid
BEGIN:VEVENT
SUMMARY:Visita del Patge Xumet al Mercat Municipal
DTSTART;VALUE=DATE:20100104
DTEND;VALUE=DATE:20100105
DTSTAMP;VALUE=DATE-TIME:20260421T183106Z
UID:d7a4d9e8f8fc493ab7eb7bb5dc83e20c@www.molletvalles.cat
CATEGORIES:Actes diversos
CREATED;VALUE=DATE-TIME:20221221T220319Z
LAST-MODIFIED;VALUE=DATE-TIME:20221221T220414Z
URL:https://www.molletvalles.cat/ca/actualitat/agenda/10727
END:VEVENT
END:VCALENDAR
