BEGIN:VCALENDAR
VERSION:2.0
PRODID:-//Plone.org//NONSGML plone.app.event//EN
X-WR-TIMEZONE:Europe/Madrid
BEGIN:VEVENT
SUMMARY:Exposició: Mirades d'Àfrica
DTSTART;VALUE=DATE:20100111
DTEND;VALUE=DATE:20100112
DTSTAMP;VALUE=DATE-TIME:20260421T183106Z
UID:4a60fbef97b94742a5c2eb11d0582e08@www.molletvalles.cat
CATEGORIES:Exposicions i fires
CREATED;VALUE=DATE-TIME:20221221T220319Z
LAST-MODIFIED;VALUE=DATE-TIME:20221221T220425Z
LOCATION:El Lledoner
URL:https://www.molletvalles.cat/ca/actualitat/agenda/10774
END:VEVENT
END:VCALENDAR
