BEGIN:VCALENDAR
VERSION:2.0
PRODID:-//Plone.org//NONSGML plone.app.event//EN
X-WR-TIMEZONE:Europe/Madrid
BEGIN:VEVENT
SUMMARY:Ball Jove de Carnaval amb DJ Pipo
DTSTART;VALUE=DATE:20100213
DTEND;VALUE=DATE:20100214
DTSTAMP;VALUE=DATE-TIME:20260423T124627Z
UID:8f9fd17db3cc4c8a9876c7c9a688d76a@www.molletvalles.cat
CATEGORIES:Actes diversos
CREATED;VALUE=DATE-TIME:20221221T220319Z
LAST-MODIFIED;VALUE=DATE-TIME:20221221T220459Z
LOCATION:Mercat Vell
URL:https://www.molletvalles.cat/ca/actualitat/agenda/10882
END:VEVENT
END:VCALENDAR
