BEGIN:VCALENDAR
VERSION:2.0
PRODID:-//Plone.org//NONSGML plone.app.event//EN
X-WR-TIMEZONE:Europe/Madrid
BEGIN:VEVENT
SUMMARY:Missa de la Cabra\, "L'aparició"\, a càrrec de la Companyia Carn
 amolles
DTSTART;VALUE=DATE:20100213
DTEND;VALUE=DATE:20100214
DTSTAMP;VALUE=DATE-TIME:20260423T124711Z
UID:d3a1f2d9f409446ab9205e7fbf70df55@www.molletvalles.cat
CATEGORIES:Actes diversos
CREATED;VALUE=DATE-TIME:20221221T220319Z
LAST-MODIFIED;VALUE=DATE-TIME:20221221T220506Z
LOCATION:Plaça Prat de la Riba
URL:https://www.molletvalles.cat/ca/actualitat/agenda/10932
END:VEVENT
END:VCALENDAR
