BEGIN:VCALENDAR
VERSION:2.0
PRODID:-//Plone.org//NONSGML plone.app.event//EN
X-WR-TIMEZONE:Europe/Madrid
BEGIN:VEVENT
SUMMARY:Captació de sang
DTSTART;VALUE=DATE:20101126
DTEND;VALUE=DATE:20101127
DTSTAMP;VALUE=DATE-TIME:20260423T124750Z
UID:5bc51093eb6d43df973ac259fc0e674b@www.molletvalles.cat
CATEGORIES:Actes diversos
CREATED;VALUE=DATE-TIME:20221221T220319Z
LAST-MODIFIED;VALUE=DATE-TIME:20221221T220511Z
LOCATION:Sala Fiveller
URL:https://www.molletvalles.cat/ca/actualitat/agenda/10948
END:VEVENT
END:VCALENDAR
