BEGIN:VCALENDAR
VERSION:2.0
PRODID:-//Plone.org//NONSGML plone.app.event//EN
X-WR-TIMEZONE:Europe/Madrid
BEGIN:VEVENT
SUMMARY:Parlem de Salut: El meu fill té dislexia... com el puc ajudar?\, 
 a càrrec de Neus Buisan. Presidenta de l'associació de dislèxia catalan
 a. Mestre i logopeda
DTSTART;VALUE=DATE:20100525
DTEND;VALUE=DATE:20100526
DTSTAMP;VALUE=DATE-TIME:20260425T122926Z
UID:da34b1a295b74206affac6fa7e9eec27@www.molletvalles.cat
CATEGORIES:Conferències
CREATED;VALUE=DATE-TIME:20221221T220319Z
LAST-MODIFIED;VALUE=DATE-TIME:20221221T220514Z
LOCATION:Centre Cultural La Marineta
URL:https://www.molletvalles.cat/ca/actualitat/agenda/10958
END:VEVENT
END:VCALENDAR
