BEGIN:VCALENDAR
VERSION:2.0
PRODID:-//Plone.org//NONSGML plone.app.event//EN
X-WR-TIMEZONE:Europe/Madrid
BEGIN:VEVENT
SUMMARY:Lliurament del I Premi de Narrativa Curta L'Illa - Va de Lletra
DTSTART;VALUE=DATE:20100204
DTEND;VALUE=DATE:20100205
DTSTAMP;VALUE=DATE-TIME:20260423T121831Z
UID:5a4eb683dd784c16957c0cb41e2bb7fc@www.molletvalles.cat
CATEGORIES:Concursos i premis
CREATED;VALUE=DATE-TIME:20221221T220319Z
LAST-MODIFIED;VALUE=DATE-TIME:20221221T220515Z
LOCATION:Llibreria L'illa
URL:https://www.molletvalles.cat/ca/actualitat/agenda/10960
END:VEVENT
END:VCALENDAR
