BEGIN:VCALENDAR
VERSION:2.0
PRODID:-//Plone.org//NONSGML plone.app.event//EN
X-WR-TIMEZONE:Europe/Madrid
BEGIN:VEVENT
SUMMARY:Taller. Programa Obrim Finestres en temps de crisi: El símptoma\,
  una raó per escoltar el nostre cos
DTSTART;VALUE=DATE:20100317
DTEND;VALUE=DATE:20100318
DTSTAMP;VALUE=DATE-TIME:20260423T124854Z
UID:58559b462ddf40bc84291c92181f3bc7@www.molletvalles.cat
CATEGORIES:Cursos i tallers
CREATED;VALUE=DATE-TIME:20221221T220319Z
LAST-MODIFIED;VALUE=DATE-TIME:20221221T220524Z
LOCATION:Centre Cívic Can Borrell
URL:https://www.molletvalles.cat/ca/actualitat/agenda/11014
END:VEVENT
END:VCALENDAR
