BEGIN:VCALENDAR
VERSION:2.0
PRODID:-//Plone.org//NONSGML plone.app.event//EN
X-WR-TIMEZONE:Europe/Madrid
BEGIN:VEVENT
SUMMARY:Contes per a Infants: Tale's Time. Goldilocks\, a càrrec del prof
 essorat de l'Escola d'Idiomes Cambridge School
DTSTART;VALUE=DATE:20100312
DTEND;VALUE=DATE:20100313
DTSTAMP;VALUE=DATE-TIME:20260423T124820Z
UID:51a93f87b14d449e83fac597812bb71d@www.molletvalles.cat
CATEGORIES:Infantils
CREATED;VALUE=DATE-TIME:20221221T220319Z
LAST-MODIFIED;VALUE=DATE-TIME:20221221T220536Z
LOCATION:Biblioteca Can Mulà
URL:https://www.molletvalles.cat/ca/actualitat/agenda/11061
END:VEVENT
END:VCALENDAR
