BEGIN:VCALENDAR
VERSION:2.0
PRODID:-//Plone.org//NONSGML plone.app.event//EN
X-WR-TIMEZONE:Europe/Madrid
BEGIN:VEVENT
SUMMARY:Campionat de Catalunya de Combinades d'Atletisme Adaptat
DTSTART;VALUE=DATE:20100327
DTEND;VALUE=DATE:20100328
DTSTAMP;VALUE=DATE-TIME:20260423T124652Z
UID:3187d61c51e043e597e9071a2d547c52@www.molletvalles.cat
CATEGORIES:Esports
CREATED;VALUE=DATE-TIME:20221221T220319Z
LAST-MODIFIED;VALUE=DATE-TIME:20221221T220543Z
LOCATION:Pista municipal d'atletisme La Pedra Salvadora
URL:https://www.molletvalles.cat/ca/actualitat/agenda/11084
END:VEVENT
END:VCALENDAR
