BEGIN:VCALENDAR
VERSION:2.0
PRODID:-//Plone.org//NONSGML plone.app.event//EN
X-WR-TIMEZONE:Europe/Madrid
BEGIN:VEVENT
SUMMARY:Xerrada: Prevenció de la depressió\, a càrrec de Ramón Buscall
 à\, psicòleg clínic
DTSTART;VALUE=DATE:20100308
DTEND;VALUE=DATE:20100309
DTSTAMP;VALUE=DATE-TIME:20260419T163911Z
UID:e18b17806bcb4dc8abd868976bfe24b7@www.molletvalles.cat
CATEGORIES:Conferències
CREATED;VALUE=DATE-TIME:20221221T220319Z
LAST-MODIFIED;VALUE=DATE-TIME:20221221T220544Z
LOCATION:Ateneu Gran
URL:https://www.molletvalles.cat/ca/actualitat/agenda/11086
END:VEVENT
END:VCALENDAR
