BEGIN:VCALENDAR
VERSION:2.0
PRODID:-//Plone.org//NONSGML plone.app.event//EN
X-WR-TIMEZONE:Europe/Madrid
BEGIN:VEVENT
SUMMARY:Inauguració de la plaça de Josep Tarradellas
DTSTART;VALUE=DATE:20100314
DTEND;VALUE=DATE:20100315
DTSTAMP;VALUE=DATE-TIME:20260423T152507Z
UID:174bb820158448edad884a8138e03c01@www.molletvalles.cat
CREATED;VALUE=DATE-TIME:20221221T220319Z
LAST-MODIFIED;VALUE=DATE-TIME:20221221T220547Z
LOCATION:Plaça de Josep Tarradellas
URL:https://www.molletvalles.cat/ca/actualitat/agenda/11099
END:VEVENT
END:VCALENDAR
