BEGIN:VCALENDAR
VERSION:2.0
PRODID:-//Plone.org//NONSGML plone.app.event//EN
X-WR-TIMEZONE:Europe/Madrid
BEGIN:VEVENT
SUMMARY:Trofeu Ciutat de Mollet de Hip Hop
DTSTART;VALUE=DATE:20100530
DTEND;VALUE=DATE:20100531
DTSTAMP;VALUE=DATE-TIME:20260421T105304Z
UID:8c3f954ce2924a02908b8310a1f22aa5@www.molletvalles.cat
CATEGORIES:Esports
CREATED;VALUE=DATE-TIME:20221221T220319Z
LAST-MODIFIED;VALUE=DATE-TIME:20221221T220550Z
LOCATION:Pavelló Municipal d'Esports Riera Seca
URL:https://www.molletvalles.cat/ca/actualitat/agenda/11111
END:VEVENT
END:VCALENDAR
