BEGIN:VCALENDAR
VERSION:2.0
PRODID:-//Plone.org//NONSGML plone.app.event//EN
X-WR-TIMEZONE:Europe/Madrid
BEGIN:VEVENT
SUMMARY:Torneig de futbol base de Setmana Santa
DTSTART;VALUE=DATE:20100402
DTEND;VALUE=DATE:20100403
DTSTAMP;VALUE=DATE-TIME:20260423T124651Z
UID:be50797283d249b08a1e560b40a7afbf@www.molletvalles.cat
CATEGORIES:Esports
CREATED;VALUE=DATE-TIME:20221221T220319Z
LAST-MODIFIED;VALUE=DATE-TIME:20221221T220553Z
LOCATION:Camp de fútbol Germans Gonzalvo
URL:https://www.molletvalles.cat/ca/actualitat/agenda/11122
END:VEVENT
END:VCALENDAR
