BEGIN:VCALENDAR
VERSION:2.0
PRODID:-//Plone.org//NONSGML plone.app.event//EN
X-WR-TIMEZONE:Europe/Madrid
BEGIN:VEVENT
SUMMARY:Sopar espectacle: Toda una vida
DTSTART;VALUE=DATE:20100422
DTEND;VALUE=DATE:20100423
DTSTAMP;VALUE=DATE-TIME:20260423T124855Z
UID:fc8b14389e224af49856e4ed7af6449e@www.molletvalles.cat
CATEGORIES:Conferències
CREATED;VALUE=DATE-TIME:20221221T220319Z
LAST-MODIFIED;VALUE=DATE-TIME:20221221T220612Z
LOCATION:El Lledoner
URL:https://www.molletvalles.cat/ca/actualitat/agenda/11178
END:VEVENT
END:VCALENDAR
