BEGIN:VCALENDAR
VERSION:2.0
PRODID:-//Plone.org//NONSGML plone.app.event//EN
X-WR-TIMEZONE:Europe/Madrid
BEGIN:VEVENT
SUMMARY:Petit Format: Obra de Teatre "Pero esto...¿qué es?"
DTSTART;VALUE=DATE:20100424
DTEND;VALUE=DATE:20100425
DTSTAMP;VALUE=DATE-TIME:20260425T161713Z
UID:2f8b68babe6a4487b3914228969d78e7@www.molletvalles.cat
CATEGORIES:Música\, cinema i espectacles
CREATED;VALUE=DATE-TIME:20221221T220319Z
LAST-MODIFIED;VALUE=DATE-TIME:20221221T220623Z
LOCATION:Centre Cívic L'Era
URL:https://www.molletvalles.cat/ca/actualitat/agenda/11212
END:VEVENT
END:VCALENDAR
