BEGIN:VCALENDAR
VERSION:2.0
PRODID:-//Plone.org//NONSGML plone.app.event//EN
X-WR-TIMEZONE:Europe/Madrid
BEGIN:VEVENT
SUMMARY:Ofrena floral amb motiu del 65è aniversari de l'alliberament del 
 camp de concentració de Mauthausen
DTSTART;VALUE=DATE:20100505
DTEND;VALUE=DATE:20100506
DTSTAMP;VALUE=DATE-TIME:20260423T124543Z
UID:be8a1b391d8a4d9bb6a3ab1b76d3917a@www.molletvalles.cat
CATEGORIES:Actes diversos
CREATED;VALUE=DATE-TIME:20221221T220319Z
LAST-MODIFIED;VALUE=DATE-TIME:20221221T220631Z
LOCATION:Pl. Amical Mauthausen
URL:https://www.molletvalles.cat/ca/actualitat/agenda/11237
END:VEVENT
END:VCALENDAR
