BEGIN:VCALENDAR
VERSION:2.0
PRODID:-//Plone.org//NONSGML plone.app.event//EN
X-WR-TIMEZONE:Europe/Madrid
BEGIN:VEVENT
SUMMARY:Concert de 404
DTSTART;VALUE=DATE:20100423
DTEND;VALUE=DATE:20100424
DTSTAMP;VALUE=DATE-TIME:20260423T124309Z
UID:4f5220680cb546278bf449eaf234037f@www.molletvalles.cat
CATEGORIES:Música\, cinema i espectacles
CREATED;VALUE=DATE-TIME:20221221T220319Z
LAST-MODIFIED;VALUE=DATE-TIME:20221221T220634Z
LOCATION:La Nau
URL:https://www.molletvalles.cat/ca/actualitat/agenda/11248
END:VEVENT
END:VCALENDAR
