BEGIN:VCALENDAR
VERSION:2.0
PRODID:-//Plone.org//NONSGML plone.app.event//EN
X-WR-TIMEZONE:Europe/Madrid
BEGIN:VEVENT
SUMMARY:Club de lectura juvenil: Endrapallibres
DTSTART;VALUE=DATE:20100507
DTEND;VALUE=DATE:20100508
DTSTAMP;VALUE=DATE-TIME:20260421T105312Z
UID:7291a168eeca4ff5a002739cbe3bb2a4@www.molletvalles.cat
CATEGORIES:Juvenils
CREATED;VALUE=DATE-TIME:20221221T220319Z
LAST-MODIFIED;VALUE=DATE-TIME:20221221T220639Z
LOCATION:Biblioteca Can Mulà
URL:https://www.molletvalles.cat/ca/actualitat/agenda/11264
END:VEVENT
END:VCALENDAR
