BEGIN:VCALENDAR
VERSION:2.0
PRODID:-//Plone.org//NONSGML plone.app.event//EN
X-WR-TIMEZONE:Europe/Madrid
BEGIN:VEVENT
SUMMARY:Taller infantil: Flors
DTSTART;VALUE=DATE:20100521
DTEND;VALUE=DATE:20100522
DTSTAMP;VALUE=DATE-TIME:20260423T124750Z
UID:d490a5db08104a88ae17692b36c443f9@www.molletvalles.cat
CATEGORIES:Cursos i tallers
CREATED;VALUE=DATE-TIME:20221221T220319Z
LAST-MODIFIED;VALUE=DATE-TIME:20221221T220640Z
LOCATION:Biblioteca Can Mulà
URL:https://www.molletvalles.cat/ca/actualitat/agenda/11267
END:VEVENT
END:VCALENDAR
