BEGIN:VCALENDAR
VERSION:2.0
PRODID:-//Plone.org//NONSGML plone.app.event//EN
X-WR-TIMEZONE:Europe/Madrid
BEGIN:VEVENT
SUMMARY:Festa del barri de Col·legis Nous
DTSTART;VALUE=DATE:20100703
DTEND;VALUE=DATE:20100704
DTSTAMP;VALUE=DATE-TIME:20260423T133649Z
UID:b1af7d84570149da8683232b2f1fd178@www.molletvalles.cat
CATEGORIES:Festes populars
CREATED;VALUE=DATE-TIME:20221221T220319Z
LAST-MODIFIED;VALUE=DATE-TIME:20221221T220703Z
LOCATION:pati de Col·legis Nous
URL:https://www.molletvalles.cat/ca/actualitat/agenda/11335
END:VEVENT
END:VCALENDAR
