BEGIN:VCALENDAR
VERSION:2.0
PRODID:-//Plone.org//NONSGML plone.app.event//EN
X-WR-TIMEZONE:Europe/Madrid
BEGIN:VEVENT
SUMMARY:Exposició Alsales: Colors i Surrealisme
DTSTART;VALUE=DATE:20100601
DTEND;VALUE=DATE:20100602
DTSTAMP;VALUE=DATE-TIME:20260425T124313Z
UID:83d6fdfc38724141b71dc060af632296@www.molletvalles.cat
CATEGORIES:Exposicions i fires
CREATED;VALUE=DATE-TIME:20221221T220319Z
LAST-MODIFIED;VALUE=DATE-TIME:20221221T220711Z
LOCATION:Centre Cívic de Can Pantiquet
URL:https://www.molletvalles.cat/ca/actualitat/agenda/11359
END:VEVENT
END:VCALENDAR
