BEGIN:VCALENDAR
VERSION:2.0
PRODID:-//Plone.org//NONSGML plone.app.event//EN
X-WR-TIMEZONE:Europe/Madrid
BEGIN:VEVENT
SUMMARY:Festa Major 2010: Pintada de Guixos
DTSTART;VALUE=DATE:20100821
DTEND;VALUE=DATE:20100822
DTSTAMP;VALUE=DATE-TIME:20260419T164006Z
UID:19e4299a2dcb4ea3ab0bf4613bf5e3c6@www.molletvalles.cat
CATEGORIES:Festes populars
CREATED;VALUE=DATE-TIME:20221221T220319Z
LAST-MODIFIED;VALUE=DATE-TIME:20221221T220740Z
LOCATION:Rambla Balmes
URL:https://www.molletvalles.cat/ca/actualitat/agenda/11466
END:VEVENT
END:VCALENDAR
