BEGIN:VCALENDAR
VERSION:2.0
PRODID:-//Plone.org//NONSGML plone.app.event//EN
X-WR-TIMEZONE:Europe/Madrid
BEGIN:VEVENT
SUMMARY:Fira d'Artesans 2010: Sardinada a càrrec dels veïns de la Fira
DTSTART;VALUE=DATE:20100917
DTEND;VALUE=DATE:20100918
DTSTAMP;VALUE=DATE-TIME:20260423T133649Z
UID:0d8289df33b5443fbd862a6af84b4ae6@www.molletvalles.cat
CATEGORIES:Exposicions i fires
CREATED;VALUE=DATE-TIME:20221221T220319Z
LAST-MODIFIED;VALUE=DATE-TIME:20221221T220816Z
LOCATION:Plaça de l'Artesania
URL:https://www.molletvalles.cat/ca/actualitat/agenda/11571
END:VEVENT
END:VCALENDAR
