BEGIN:VCALENDAR
VERSION:2.0
PRODID:-//Plone.org//NONSGML plone.app.event//EN
X-WR-TIMEZONE:Europe/Madrid
BEGIN:VEVENT
SUMMARY:Inscripcions presencials per a la gent gran als cursos i tallers: 
 Expressió
DTSTART;VALUE=DATE:20100924
DTEND;VALUE=DATE:20100925
DTSTAMP;VALUE=DATE-TIME:20260425T124252Z
UID:39e3830ae752443883e6ac2639c34284@www.molletvalles.cat
CATEGORIES:Cursos i tallers
CREATED;VALUE=DATE-TIME:20221221T220319Z
LAST-MODIFIED;VALUE=DATE-TIME:20221221T220832Z
LOCATION:Oficina d'Atenció Ciutadana de l'Ajuntament de Mollet
URL:https://www.molletvalles.cat/ca/actualitat/agenda/11669
END:VEVENT
END:VCALENDAR
