BEGIN:VCALENDAR
VERSION:2.0
PRODID:-//Plone.org//NONSGML plone.app.event//EN
X-WR-TIMEZONE:Europe/Madrid
BEGIN:VEVENT
SUMMARY:FIMO 2010: Tecnologies netes i sostenibles. La Ruta elèctrica per
  Catalunya
DTSTART;VALUE=DATE:20101003
DTEND;VALUE=DATE:20101004
DTSTAMP;VALUE=DATE-TIME:20260425T124252Z
UID:1d6a7cf4e9564ee196c20ccd655916ee@www.molletvalles.cat
CATEGORIES:Exposicions i fires
CREATED;VALUE=DATE-TIME:20221221T220319Z
LAST-MODIFIED;VALUE=DATE-TIME:20221221T220841Z
LOCATION:Recinte firal Parc de Ca l'Estrada
URL:https://www.molletvalles.cat/ca/actualitat/agenda/11703
END:VEVENT
END:VCALENDAR
