BEGIN:VCALENDAR
VERSION:2.0
PRODID:-//Plone.org//NONSGML plone.app.event//EN
X-WR-TIMEZONE:Europe/Madrid
BEGIN:VEVENT
SUMMARY:XVIII Diada Castellera: Sopar de l'assaig especial
DTSTART;VALUE=DATE:20101029
DTEND;VALUE=DATE:20101030
DTSTAMP;VALUE=DATE-TIME:20260419T163915Z
UID:b150b65ba0854c029c3bc48c81031b3f@www.molletvalles.cat
CATEGORIES:Actes diversos
CREATED;VALUE=DATE-TIME:20221221T220319Z
LAST-MODIFIED;VALUE=DATE-TIME:20221221T220849Z
LOCATION:Mercat Vell
URL:https://www.molletvalles.cat/ca/actualitat/agenda/11729
END:VEVENT
END:VCALENDAR
