BEGIN:VCALENDAR
VERSION:2.0
PRODID:-//Plone.org//NONSGML plone.app.event//EN
X-WR-TIMEZONE:Europe/Madrid
BEGIN:VEVENT
SUMMARY:Jornada de Salut Mental
DTSTART;VALUE=DATE:20101022
DTEND;VALUE=DATE:20101023
DTSTAMP;VALUE=DATE-TIME:20260419T163803Z
UID:71a68eceb3e9482189c330c2c8d02113@www.molletvalles.cat
CATEGORIES:Actes diversos
CREATED;VALUE=DATE-TIME:20221221T220319Z
LAST-MODIFIED;VALUE=DATE-TIME:20221221T220910Z
LOCATION:Centre Cívic Can Borrell
URL:https://www.molletvalles.cat/ca/actualitat/agenda/11794
END:VEVENT
END:VCALENDAR
