BEGIN:VCALENDAR
VERSION:2.0
PRODID:-//Plone.org//NONSGML plone.app.event//EN
X-WR-TIMEZONE:Europe/Madrid
BEGIN:VEVENT
SUMMARY:Presentació de l'estudi "Adona't: Projecte de prevenció de viol
 ència de gènere entre els i les adolescents"
DTSTART;VALUE=DATE:20101116
DTEND;VALUE=DATE:20101117
DTSTAMP;VALUE=DATE-TIME:20260423T121713Z
UID:8c9e9dff088d4a28a89d8af5b2398d49@www.molletvalles.cat
CATEGORIES:Actes diversos
CREATED;VALUE=DATE-TIME:20221221T220319Z
LAST-MODIFIED;VALUE=DATE-TIME:20221221T220940Z
LOCATION:CIRD Joana Barcala
URL:https://www.molletvalles.cat/ca/actualitat/agenda/11893
END:VEVENT
END:VCALENDAR
