BEGIN:VCALENDAR
VERSION:2.0
PRODID:-//Plone.org//NONSGML plone.app.event//EN
X-WR-TIMEZONE:Europe/Madrid
BEGIN:VEVENT
SUMMARY:Processó de Setmana Santa del Centro Cultural Andaluz
DTSTART;VALUE=DATE:20110416
DTEND;VALUE=DATE:20110417
DTSTAMP;VALUE=DATE-TIME:20260423T124821Z
UID:7d727456e7b4468fb0ea3fdd6d59d1c7@www.molletvalles.cat
CATEGORIES:Festes populars
CREATED;VALUE=DATE-TIME:20221221T220319Z
LAST-MODIFIED;VALUE=DATE-TIME:20221221T221022Z
URL:https://www.molletvalles.cat/ca/actualitat/agenda/12014
END:VEVENT
END:VCALENDAR
