BEGIN:VCALENDAR
VERSION:2.0
PRODID:-//Plone.org//NONSGML plone.app.event//EN
X-WR-TIMEZONE:Europe/Madrid
BEGIN:VEVENT
SUMMARY:Torneig solidari UD Molletense
DTSTART;VALUE=DATE:20110102
DTEND;VALUE=DATE:20110103
DTSTAMP;VALUE=DATE-TIME:20260419T164045Z
UID:185566bb084443b9a56156f0ade3c9c7@www.molletvalles.cat
CATEGORIES:Esports
CREATED;VALUE=DATE-TIME:20221221T220319Z
LAST-MODIFIED;VALUE=DATE-TIME:20221221T221022Z
LOCATION:Camp de futbol municipal de la zona sud
URL:https://www.molletvalles.cat/ca/actualitat/agenda/12017
END:VEVENT
END:VCALENDAR
