BEGIN:VCALENDAR
VERSION:2.0
PRODID:-//Plone.org//NONSGML plone.app.event//EN
X-WR-TIMEZONE:Europe/Madrid
BEGIN:VEVENT
SUMMARY:Sant Vicenç 2011: Gran Ball de Festa Major
DTSTART;VALUE=DATE:20110129
DTEND;VALUE=DATE:20110130
DTSTAMP;VALUE=DATE-TIME:20260423T124854Z
UID:9dc6bad794d646c1a41ba73d10e998cb@www.molletvalles.cat
CATEGORIES:Actes diversos
CREATED;VALUE=DATE-TIME:20221221T220319Z
LAST-MODIFIED;VALUE=DATE-TIME:20221221T221035Z
LOCATION:Mercat Vell
URL:https://www.molletvalles.cat/ca/actualitat/agenda/12057
END:VEVENT
END:VCALENDAR
