BEGIN:VCALENDAR
VERSION:2.0
PRODID:-//Plone.org//NONSGML plone.app.event//EN
X-WR-TIMEZONE:Europe/Madrid
BEGIN:VEVENT
SUMMARY:Visita del Carnestoltes al Mercat Municipal
DTSTART;VALUE=DATE:20110305
DTEND;VALUE=DATE:20110306
DTSTAMP;VALUE=DATE-TIME:20260423T124423Z
UID:039796c57f97491b849776c2a74d2cdf@www.molletvalles.cat
CATEGORIES:Festes populars
CREATED;VALUE=DATE-TIME:20110223T083939Z
LAST-MODIFIED;VALUE=DATE-TIME:20221221T221106Z
LOCATION:Mercat Municipal
URL:https://www.molletvalles.cat/ca/actualitat/agenda/12151
END:VEVENT
END:VCALENDAR
