BEGIN:VCALENDAR
VERSION:2.0
PRODID:-//Plone.org//NONSGML plone.app.event//EN
X-WR-TIMEZONE:Europe/Madrid
BEGIN:VEVENT
SUMMARY:Parlem de Salut: Parlem del càncer de colon
DTSTART;VALUE=DATE:20110322
DTEND;VALUE=DATE:20110323
DTSTAMP;VALUE=DATE-TIME:20260423T104146Z
UID:14b49857cbbe473b9aab25da3494894c@www.molletvalles.cat
CATEGORIES:Conferències
CREATED;VALUE=DATE-TIME:20110304T081640Z
LAST-MODIFIED;VALUE=DATE-TIME:20221221T221121Z
URL:https://www.molletvalles.cat/ca/actualitat/agenda/12188
END:VEVENT
END:VCALENDAR
