BEGIN:VCALENDAR
VERSION:2.0
PRODID:-//Plone.org//NONSGML plone.app.event//EN
X-WR-TIMEZONE:Europe/Madrid
BEGIN:VEVENT
SUMMARY:Contes en anglès: Tale's time. Goldilocks and the Three Bears
DTSTART;VALUE=DATE:20110308
DTEND;VALUE=DATE:20110309
DTSTAMP;VALUE=DATE-TIME:20260423T124457Z
UID:5f14239451314ad4bd805df34f1e11ca@www.molletvalles.cat
CATEGORIES:Infantils
CREATED;VALUE=DATE-TIME:20110304T123227Z
LAST-MODIFIED;VALUE=DATE-TIME:20221221T221124Z
URL:https://www.molletvalles.cat/ca/actualitat/agenda/12191
END:VEVENT
END:VCALENDAR
