BEGIN:VCALENDAR
VERSION:2.0
PRODID:-//Plone.org//NONSGML plone.app.event//EN
X-WR-TIMEZONE:Europe/Madrid
BEGIN:VEVENT
SUMMARY:Ball de Saló
DTSTART;VALUE=DATE:20110326
DTEND;VALUE=DATE:20110327
DTSTAMP;VALUE=DATE-TIME:20260423T124820Z
UID:082258b45c86421ab2775727dac89a09@www.molletvalles.cat
CATEGORIES:Actes diversos
CREATED;VALUE=DATE-TIME:20110308T083826Z
LAST-MODIFIED;VALUE=DATE-TIME:20221221T221127Z
URL:https://www.molletvalles.cat/ca/actualitat/agenda/12201
END:VEVENT
END:VCALENDAR
