BEGIN:VCALENDAR
VERSION:2.0
PRODID:-//Plone.org//NONSGML plone.app.event//EN
X-WR-TIMEZONE:Europe/Madrid
BEGIN:VEVENT
SUMMARY:Mostra Internacional de Titelles: Obertura de la 5a Mostra amb el 
 Mollet Mullat
DTSTART;VALUE=DATE:20110415
DTEND;VALUE=DATE:20110416
DTSTAMP;VALUE=DATE-TIME:20260423T140507Z
UID:a39ef8a09201407ea3ab94a6c388be70@www.molletvalles.cat
CATEGORIES:Música\, cinema i espectacles
CREATED;VALUE=DATE-TIME:20110325T085614Z
LAST-MODIFIED;VALUE=DATE-TIME:20221221T221137Z
LOCATION:Plaça Prat de la Riba
URL:https://www.molletvalles.cat/ca/actualitat/agenda/12231
END:VEVENT
END:VCALENDAR
