BEGIN:VCALENDAR
VERSION:2.0
PRODID:-//Plone.org//NONSGML plone.app.event//EN
X-WR-TIMEZONE:Europe/Madrid
BEGIN:VEVENT
SUMMARY:Sant Jordi 2011: Presentació del llibre "La casa cantonera"\, amb
  Silvia Alcantara
DTSTART;VALUE=DATE:20110504
DTEND;VALUE=DATE:20110505
DTSTAMP;VALUE=DATE-TIME:20260423T133615Z
UID:8fec7cebe86f4651ae8922874a7d3944@www.molletvalles.cat
CATEGORIES:Actes diversos
CREATED;VALUE=DATE-TIME:20110412T125211Z
LAST-MODIFIED;VALUE=DATE-TIME:20221221T221205Z
URL:https://www.molletvalles.cat/ca/actualitat/agenda/12308
END:VEVENT
END:VCALENDAR
