BEGIN:VCALENDAR
VERSION:2.0
PRODID:-//Plone.org//NONSGML plone.app.event//EN
X-WR-TIMEZONE:Europe/Madrid
BEGIN:VEVENT
SUMMARY:Per Molts Anys 2011: Ball de gent gran amb música del Duet Esquit
 x
DTSTART;VALUE=DATE:20110508
DTEND;VALUE=DATE:20110509
DTSTAMP;VALUE=DATE-TIME:20260423T124653Z
UID:70dd73a50c184504b6483ddb34ee2336@www.molletvalles.cat
CATEGORIES:Música\, cinema i espectacles
CREATED;VALUE=DATE-TIME:20110418T120514Z
LAST-MODIFIED;VALUE=DATE-TIME:20221221T221214Z
URL:https://www.molletvalles.cat/ca/actualitat/agenda/12332
END:VEVENT
END:VCALENDAR
