BEGIN:VCALENDAR
VERSION:2.0
PRODID:-//Plone.org//NONSGML plone.app.event//EN
X-WR-TIMEZONE:Europe/Madrid
BEGIN:VEVENT
SUMMARY:Contes en anglès: Tale's time: Brown Bear\, Brown Bear
DTSTART;VALUE=DATE:20110510
DTEND;VALUE=DATE:20110511
DTSTAMP;VALUE=DATE-TIME:20260425T124253Z
UID:1a938fe9f2ba473086a12fe731f9d1cc@www.molletvalles.cat
CATEGORIES:Infantils
CREATED;VALUE=DATE-TIME:20110421T101034Z
LAST-MODIFIED;VALUE=DATE-TIME:20221221T221221Z
URL:https://www.molletvalles.cat/ca/actualitat/agenda/12352
END:VEVENT
END:VCALENDAR
