BEGIN:VCALENDAR
VERSION:2.0
PRODID:-//Plone.org//NONSGML plone.app.event//EN
X-WR-TIMEZONE:Europe/Madrid
BEGIN:VEVENT
SUMMARY:XXV Cursa Escolar Popular de l'Agrupació Escolar Anselm Clavé
DTSTART;VALUE=DATE:20110515
DTEND;VALUE=DATE:20110516
DTSTAMP;VALUE=DATE-TIME:20260423T124609Z
UID:56dbefa7d9b24755bcb414233f607ee8@www.molletvalles.cat
CATEGORIES:Esports
CREATED;VALUE=DATE-TIME:20110502T084036Z
LAST-MODIFIED;VALUE=DATE-TIME:20221221T221233Z
URL:https://www.molletvalles.cat/ca/actualitat/agenda/12372
END:VEVENT
END:VCALENDAR
