BEGIN:VCALENDAR
VERSION:2.0
PRODID:-//Plone.org//NONSGML plone.app.event//EN
X-WR-TIMEZONE:Europe/Madrid
BEGIN:VEVENT
SUMMARY:Concert: Caraocruz
DTSTART;VALUE=DATE:20110603
DTEND;VALUE=DATE:20110604
DTSTAMP;VALUE=DATE-TIME:20260423T152612Z
UID:58de2e5d0e1747d3af0e653ca29827a3@www.molletvalles.cat
CATEGORIES:Juvenils
CREATED;VALUE=DATE-TIME:20110516T073155Z
LAST-MODIFIED;VALUE=DATE-TIME:20221221T221242Z
URL:https://www.molletvalles.cat/ca/actualitat/agenda/12396
END:VEVENT
END:VCALENDAR
