BEGIN:VCALENDAR
VERSION:2.0
PRODID:-//Plone.org//NONSGML plone.app.event//EN
X-WR-TIMEZONE:Europe/Madrid
BEGIN:VEVENT
SUMMARY:Revetlla de Sant Joan: Cercavila de gegants amb la Flama del Canig
 ó
DTSTART;VALUE=DATE:20110623
DTEND;VALUE=DATE:20110624
DTSTAMP;VALUE=DATE-TIME:20260423T133719Z
UID:f24c9aa471c54d8685a0dccda8a01703@www.molletvalles.cat
CATEGORIES:Actes diversos
CREATED;VALUE=DATE-TIME:20110608T081515Z
LAST-MODIFIED;VALUE=DATE-TIME:20221221T221306Z
LOCATION:Gaietà Vinzia
URL:https://www.molletvalles.cat/ca/actualitat/agenda/12465
END:VEVENT
END:VCALENDAR
