BEGIN:VCALENDAR
VERSION:2.0
PRODID:-//Plone.org//NONSGML plone.app.event//EN
X-WR-TIMEZONE:Europe/Madrid
BEGIN:VEVENT
SUMMARY:Fira d'Artesans 2011: Sardinada a càrrec dels veïns de la Fira
DTSTART;VALUE=DATE:20110916
DTEND;VALUE=DATE:20110917
DTSTAMP;VALUE=DATE-TIME:20260423T104149Z
UID:26a0f90110704ad4b02a64a84e6d527a@www.molletvalles.cat
CATEGORIES:Festes populars
CREATED;VALUE=DATE-TIME:20110912T075024Z
LAST-MODIFIED;VALUE=DATE-TIME:20221221T221401Z
LOCATION:Plaça de l'Artesania
URL:https://www.molletvalles.cat/ca/actualitat/agenda/12623
END:VEVENT
END:VCALENDAR
