BEGIN:VCALENDAR
VERSION:2.0
PRODID:-//Plone.org//NONSGML plone.app.event//EN
X-WR-TIMEZONE:Europe/Madrid
BEGIN:VEVENT
SUMMARY:Inscripcions al programa d'activitats\, cursos i tallers per a gen
 t gran: Humanitats\, Salut i creixement personal
DTSTART;VALUE=DATE:20110920
DTEND;VALUE=DATE:20110921
DTSTAMP;VALUE=DATE-TIME:20260423T133754Z
UID:bf0cc244dc9c445ba4affb25e0550573@www.molletvalles.cat
CATEGORIES:Cursos i tallers
CREATED;VALUE=DATE-TIME:20110920T123146Z
LAST-MODIFIED;VALUE=DATE-TIME:20221221T221413Z
LOCATION:OAC
URL:https://www.molletvalles.cat/ca/actualitat/agenda/12658
END:VEVENT
END:VCALENDAR
