BEGIN:VCALENDAR
VERSION:2.0
PRODID:-//Plone.org//NONSGML plone.app.event//EN
X-WR-TIMEZONE:Europe/Madrid
BEGIN:VEVENT
SUMMARY:Fira't a Gallecs: Omple de la fira el teu rebost
DTSTART;VALUE=DATE:20110925
DTEND;VALUE=DATE:20110926
DTSTAMP;VALUE=DATE-TIME:20260423T124423Z
UID:79f6f544f5634961b0ec9c7196ab0264@www.molletvalles.cat
CATEGORIES:Exposicions i fires
CREATED;VALUE=DATE-TIME:20110921T075415Z
LAST-MODIFIED;VALUE=DATE-TIME:20221221T221415Z
LOCATION:Plaça de l'Església de Gallecs
URL:https://www.molletvalles.cat/ca/actualitat/agenda/12663
END:VEVENT
END:VCALENDAR
