BEGIN:VCALENDAR
VERSION:2.0
PRODID:-//Plone.org//NONSGML plone.app.event//EN
X-WR-TIMEZONE:Europe/Madrid
BEGIN:VEVENT
SUMMARY:Ball de Gent Gran
DTSTART;VALUE=DATE:20111204
DTEND;VALUE=DATE:20111205
DTSTAMP;VALUE=DATE-TIME:20260423T152612Z
UID:dca54ca39a6e4e89baba29dff453b69b@www.molletvalles.cat
CATEGORIES:Actes diversos
CREATED;VALUE=DATE-TIME:20111011T124143Z
LAST-MODIFIED;VALUE=DATE-TIME:20221221T221501Z
URL:https://www.molletvalles.cat/ca/actualitat/agenda/12735
END:VEVENT
END:VCALENDAR
