BEGIN:VCALENDAR
VERSION:2.0
PRODID:-//Plone.org//NONSGML plone.app.event//EN
X-WR-TIMEZONE:Europe/Madrid
BEGIN:VEVENT
SUMMARY:Tale's time: Jack and the Beanstalk
DTSTART;VALUE=DATE:20111213
DTEND;VALUE=DATE:20111214
DTSTAMP;VALUE=DATE-TIME:20260421T174438Z
UID:317fa937ba1f4c958871a9efec799368@www.molletvalles.cat
CATEGORIES:Infantils
CREATED;VALUE=DATE-TIME:20111110T112342Z
LAST-MODIFIED;VALUE=DATE-TIME:20221221T221541Z
URL:https://www.molletvalles.cat/ca/actualitat/agenda/12818
END:VEVENT
END:VCALENDAR
