BEGIN:VCALENDAR
VERSION:2.0
PRODID:-//Plone.org//NONSGML plone.app.event//EN
X-WR-TIMEZONE:Europe/Madrid
BEGIN:VEVENT
SUMMARY:Sant Jordi 2012: La Tertuliana. El pas de primària a secundària
DTSTART;VALUE=DATE:20120426
DTEND;VALUE=DATE:20120427
DTSTAMP;VALUE=DATE-TIME:20260423T124309Z
UID:bc7c6893ab6c41e9a33c34acf54d82bf@www.molletvalles.cat
CATEGORIES:Conferències
CREATED;VALUE=DATE-TIME:20111117T135324Z
LAST-MODIFIED;VALUE=DATE-TIME:20221221T221600Z
URL:https://www.molletvalles.cat/ca/actualitat/agenda/12833
END:VEVENT
END:VCALENDAR
