BEGIN:VCALENDAR
VERSION:2.0
PRODID:-//Plone.org//NONSGML plone.app.event//EN
X-WR-TIMEZONE:Europe/Madrid
BEGIN:VEVENT
SUMMARY:Sant Vicenç 2012: XIX Nit de l'Esport
DTSTART;VALUE=DATE:20120127
DTEND;VALUE=DATE:20120128
DTSTAMP;VALUE=DATE-TIME:20260423T124711Z
UID:3ef994e20c924987ac246b2e6a9506fe@www.molletvalles.cat
CATEGORIES:Esports
CREATED;VALUE=DATE-TIME:20111201T114716Z
LAST-MODIFIED;VALUE=DATE-TIME:20221221T221612Z
URL:https://www.molletvalles.cat/ca/actualitat/agenda/12859
END:VEVENT
END:VCALENDAR
